BEGIN:VCALENDAR
METHOD:PUBLISH
VERSION:2.0
PRODID:-//Assemblee-Nationale//iCal 3.0//FR
TZ:+00
BEGIN:VEVENT
UID:OMC_RUANR5L17S2025IDC455576
DTSTAMP:20260420T182552Z
DTSTART:20250403T090500Z
SUMMARY:Réunion de la commission des affaires culturelles et de l&#039;éducation
LOCATION:Salle 6242 – Palais Bourbon, 2ème sous-sol
DESCRIPTION:Dans le cadre de l’enquête sur les modalités du contrôle par l’État et de la prévention des violences dans les établissements scolaires (article 5 ter de l’ordonnance n° 58 1100 du 17 novembre 1958), audition de représentants des syndicats représentatifs des enseignants du public : MM. Brice Castel et Éric Nicollet, secrétaires nationaux de la Fédération syndicale unitaire (FSU) ; Mme Karine Fromont, secrétaire nationale en charge de la qualité de vie et des conditions de travail du Syndicat des enseignants de l’Union nationale des syndicats autonomes (SE-UNSA), et Mme Caroline Briot, référente nationale des personnels d’éducation ; M. Christophe Lalande, secrétaire fédéral de la Fédération nationale de l’enseignement, de la culture et de la formation professionnelle - Force ouvrière (FNEC FP-FO) ; M. Christophe Bonnet, secrétaire national de la Confédération française démocratique du travail (CFDT) éducation, formation, recherche publiques, et M. Laurent Kaufmann, secrétaire fédéral ; M. Xavier Perinet Marquet, membre du bureau national et de la commission 1er degré du Syndicat national des lycées, collèges, écoles et du supérieur (SNALC) ; Mme Marion Jasseron co secrétaire de la Fédération solidaires, unitaires et démocratiques (SUD) éducation, et Mme Ange Fernandez, mandatée antisexisme pour Sud éducation.
DTEND:20250403T104000Z
TRANSP:TRANSPARENT
END:VEVENT
END:VCALENDAR
