BEGIN:VCALENDAR
METHOD:PUBLISH
VERSION:2.0
PRODID:-//Assemblee-Nationale//iCal 3.0//FR
TZ:+00
BEGIN:VEVENT
UID:OMC_RUANR5L17S2025IDC456208
DTSTAMP:20260420T182800Z
DTSTART:20250409T220000Z
SUMMARY:Réunion de France-Jordanie
LOCATION:Résidence de son Son Exc. Mme Leena Al-Hadid, ambassadrice de Jordanie en France
DESCRIPTION:Petit-déjeuner de travail sur le thème de la relation bilatérale France-Jordanie
DTEND:20250510T215959Z
TRANSP:TRANSPARENT
END:VEVENT
END:VCALENDAR
