BEGIN:VCALENDAR
METHOD:PUBLISH
VERSION:2.0
PRODID:-//Assemblee-Nationale//iCal 3.0//FR
TZ:+00
BEGIN:VEVENT
UID:OMC_RUANR5L17S2025IDC458536
DTSTART:20250526T220000Z
DTSTAMP:20260421T210755Z
SUMMARY:Réunion de France-Estonie
LOCATION:Petit-Hôtel et réunions dans le bâtiment Olympe de Gouges
DESCRIPTION:Déjeuner en l&#039;honneur d&#039;une délégation du groupe d&#039;amitié Estonie-France et entretiens avec M. Fuchs, Président de la commission des Affaires étrangères et de M. Jean-Michel Jacques, Président de la commission de la Défense nationale et des forces armées
DTEND:20250528T215959Z
TRANSP:TRANSPARENT
END:VEVENT
BEGIN:VEVENT
UID:OMC_RUANR5L17S2025IDC456576
DTSTART:20250527T063000Z
DTSTAMP:20260421T210755Z
SUMMARY:Réunion de la mission d&#039;évaluation et de contrôle des lois de financement de la sécurité sociale
LOCATION:Salle 7044 – 103 rue de l&#039;Université, 2ème sous-sol
DESCRIPTION:Printemps social de l&#039;évaluationEHPAD centres de ressources (article 47 de la LFSS pour 2022)– Syndicat national des établissements et résidences privées pour personnes âgées (SYNERPA) et SYNERPA domicile – M. Jean-Christophe Amarantinis, président confédéral, et Mme Elsa Ptakhine, déléguée générale 
DTEND:20250527T073000Z
TRANSP:TRANSPARENT
END:VEVENT
BEGIN:VEVENT
UID:OMC_RUSNR5L17S2025IDS29576
DTSTART:20250527T070000Z
DTSTAMP:20260421T210755Z
SUMMARY:Séance publique (1e)
LOCATION:Sénat
DESCRIPTION:Discussion\nDiscussion\n
DTEND:20250527T080000Z
TRANSP:TRANSPARENT
END:VEVENT
BEGIN:VEVENT
UID:OMC_RUANR5L17S2025IDC456364
DTSTART:20250527T070000Z
DTSTAMP:20260421T210755Z
SUMMARY:Réunion 
LOCATION:salle de la Questure - PB - 1er étage
DESCRIPTION:– M. Frédéric MASVIEL, Chef de l’unité départementale de l’architecture et du patrimoine de Paris (UDAP 75) à la DRAC Ile-de-France.
DTEND:20250527T075000Z
TRANSP:TRANSPARENT
END:VEVENT
BEGIN:VEVENT
UID:OMC_RUANR5L17S2025IDC456577
DTSTART:20250527T073000Z
DTSTAMP:20260421T210755Z
SUMMARY:Réunion de la mission d&#039;évaluation et de contrôle des lois de financement de la sécurité sociale
LOCATION:Salle 7044 – 103 rue de l&#039;Université, 2ème sous-sol
DESCRIPTION: Printemps social de l&#039;évaluationEHPAD centres de ressources (article 47 de la LFSS pour 2022)– ARS Hauts-de-France – M. Jean-Christophe Canler, directeur général adjoint, et M. Charly Chevalley, directeur de l’offre médicosociale – ARS de Normandie – M. Jérôme Dupont, adjoint à la directrice de l’autonomie
DTEND:20250527T083000Z
TRANSP:TRANSPARENT
END:VEVENT
BEGIN:VEVENT
UID:OMC_RUANR5L17S2025IDC456578
DTSTART:20250527T091500Z
DTSTAMP:20260421T210755Z
SUMMARY:Réunion de la mission d&#039;évaluation et de contrôle des lois de financement de la sécurité sociale
LOCATION:Salle 7044 – 103 rue de l&#039;Université, 2ème sous-sol
DESCRIPTION: Printemps social de l&#039;évaluationEHPAD centres de ressources (article 47 de la LFSS pour 2022)Direction générale de la cohésion sociale (DGCS) – M. Arnaud Flanquart, sous-directeur de l&#039;autonomie des personnes handicapées et des personnes âgées, Mme Emmanuelle Seguy-Gard, adjointe au sous-directeur, chargée de l&#039;autonomie des personnes âgées, M. Florian Kastler, chef du bureau de la prévention de la perte d&#039;autonomie et du parcours de vie des personnes âgées, et Mme Nathalie Dutheil, adjointe au chef du bureau de la prévention de la perte d&#039;autonomie et du parcours de vie des personnes âgées
DTEND:20250527T101500Z
TRANSP:TRANSPARENT
END:VEVENT
BEGIN:VEVENT
UID:OMC_RUANR5L17S2025IDC456490
DTSTART:20250527T093000Z
DTSTAMP:20260421T210755Z
SUMMARY:Réunion de France-Belgique
LOCATION:Salle 4075, 9 rue de Bourgogne
DESCRIPTION:Échanges de vue sur les activités du groupe d&#039;amitié
DTEND:20250527T103000Z
TRANSP:TRANSPARENT
END:VEVENT
BEGIN:VEVENT
UID:OMC_RUANR5L17S2025IDC456500
DTSTAMP:20260421T210755Z
DTSTART:20250527T100500Z
SUMMARY:Réunion Commission mixte paritaire chargée de proposer un texte sur les dispositions restant en discussion de la proposition de loi relative à la lutte contre l&#039;antisémitisme, le racisme, les discriminations, les violences et la haine dans l&#039;enseignement supérieu
LOCATION:au Sénat, 15 rue de Vaugirard, Paris 6e en salle n° 213
DESCRIPTION:Nomination du bureau ;\nNomination des rapporteurs ;\nExamen des dispositions restant en discussion de la proposition de loi.\n
DTEND:20250527T122000Z
TRANSP:TRANSPARENT
END:VEVENT
BEGIN:VEVENT
UID:OMC_RUANR5L17S2025IDC456582
DTSTAMP:20260421T210755Z
DTSTART:20250527T110000Z
SUMMARY:Réunion 
LOCATION:Visioconférence sans salle
DESCRIPTION:Table ronde de La Réunion :\n- MM. Frédéric Sautron, sous-préfet en charge de la cohésion sociale et de la jeunesse, et Brian Tourre, adjoint au sous-préfet en charge des politiques de prévention ;\n- Conseil départemental de La Réunion – Mmes Nathalie Anoumby, directrice générale adjointe des services – Pôle des solidarités, et Aurélie Nativel, directrice de l’autonomie ;\n- Maison départementale des personnes handicapées (MDPH) de La Réunion – M. Déva Radakichenin, directeur ;\n- Rectorat de l’académie de La Réunion – M. Jean Devries, conseiller technique en charge de l’école inclusive ;\n- Délégation régionale académique à la jeunesse, à l&#039;engagement et aux sports (DRAJES) – Mme Elvire Teza, conseillère technique et pédagogique sport ;\n- Comité Valentin Haüy de La Réunion – en attente de la délégation.\n
DTEND:20250527T120000Z
TRANSP:TRANSPARENT
END:VEVENT
BEGIN:VEVENT
UID:OMC_RUANR5L17S2025IDC456350
DTSTAMP:20260421T210755Z
DTSTART:20250527T113000Z
SUMMARY:Réunion de la commission du développement durable et de l&#039;aménagement du territoire
LOCATION:Salle 6238 – Palais Bourbon, 2ème sous-sol
DESCRIPTION:– examen pour avis de la proposition de loi, adoptée par le Sénat, portant programmation nationale et simplification normative dans le secteur économique de l’énergie (n° 463) (M. Jean-Marie Fiévet, rapporteur).
DTEND:20250527T121000Z
TRANSP:TRANSPARENT
END:VEVENT
BEGIN:VEVENT
UID:OMC_RUANR5L17S2025IDC456643
DTSTAMP:20260421T210755Z
DTSTART:20250527T120000Z
SUMMARY:Réunion 
LOCATION:Salle 4203 - 9 rue de Bourgogne, 2éme étage
DESCRIPTION:Audition de Mme Céline Berthon, directrice générale de la sécurité intérieure.
DTEND:20250527T130000Z
TRANSP:TRANSPARENT
END:VEVENT
BEGIN:VEVENT
UID:OMC_RUANR5L17S2025IDFL455875
DTSTAMP:20260421T210755Z
DTSTART:20250527T120000Z
SUMMARY:Réunion - Littoral
LOCATION:salle 2 (3 rue Aristide Briand)
DESCRIPTION:Réunion commune des groupes d&#039;étude Littoral de l&#039;Assemblée nationale et du Sénat
DTEND:20250527T130000Z
TRANSP:TRANSPARENT
END:VEVENT
BEGIN:VEVENT
UID:OMC_RUANR5L17S2025IDC456588
DTSTAMP:20260421T210755Z
DTSTART:20250527T122500Z
SUMMARY:Réunion de la commission d’enquête sur les effets psychologiques de TikTok sur les mineurs
LOCATION:6ème Bureau – Palais Bourbon, 1er étage
DESCRIPTION:Audition, ouverte à la presse, de Mme Bérangère Couillard, présidente du Haut Conseil à l’Egalité entre les hommes et les femmes ;\nAudition, ouverte à la presse, de Mme Justine Atlan, directrice générale de  l’association E-enfance, M. Samuel Comblez, directeur général adjoint, et Mme Inès Legendre, chargée de plaidoyer ;\nAudition, ouverte à la presse, de M. Thierry Breton, ancien commissaire européen au marché intérieur ;\nAudition, ouverte à la presse, de Mme Cécile Augeraud, commissaire divisionnaire, chef-adjoint à l’Office anti cybercriminalité (OFAC) ;\nAudition, à huis clos, de M. Nicolas Deffieux, directeur du Pôle d’expertise de la régulation numérique (PEReN).\n
DTEND:20250527T171500Z
TRANSP:TRANSPARENT
END:VEVENT
BEGIN:VEVENT
UID:OMC_RUANR5L17S2025IDS29459
DTSTAMP:20260421T210755Z
DTSTART:20250527T130000Z
SUMMARY:Première séance publique (217e)
LOCATION:Assemblée nationale
DESCRIPTION:Questions au Gouvernement\nVote solennel sur la proposition de loi relative aux soins palliatifs et d’accompagnement\nVote solennel sur la proposition de loi relative à la fin de vie\n\n\nSuite de la discussion du projet de loi, adopté par le Sénat, de simplification de la vie économique\n
DTEND:20250527T180500Z
TRANSP:TRANSPARENT
END:VEVENT
BEGIN:VEVENT
UID:OMC_RUANR5L17S2025IDC456412
DTSTAMP:20260421T210755Z
DTSTART:20250527T130000Z
SUMMARY:Réunion de la commission d’enquête relative à l’organisation du système de santé et aux difficultés d’accès aux soins
LOCATION:Salle 6350 – Palais Bourbon, 1er étage
DESCRIPTION:Audition de Mme Sophie Lebret, secrétaire générale des ministères chargés des affaires sociales et M. Yann Debos, chef de service et responsable du pôle santé.
DTEND:20250527T135500Z
TRANSP:TRANSPARENT
END:VEVENT
BEGIN:VEVENT
UID:OMC_RUANR5L17S2025IDC456560
DTSTAMP:20260421T210755Z
DTSTART:20250527T130000Z
SUMMARY:Réunion 
LOCATION:Salle 4016 –  9 rue de Bourgogne, Rez-de-chaussée
DESCRIPTION:Audition du CRG2 M. Renaud Dutt, directeur du centre interarmées du soutien équipements commissariat (CIEC), service du commissariat des Armées (SCA).
DTEND:20250527T140000Z
TRANSP:TRANSPARENT
END:VEVENT
BEGIN:VEVENT
UID:OMC_RUANR5L17S2025IDC456569
DTSTAMP:20260421T210755Z
DTSTART:20250527T130000Z
SUMMARY:Réunion 
LOCATION:Salle 7044 – 103 rue de l&#039;Université, 2ème sous-sol
DESCRIPTION:Ministère de l’agriculture - Direction générale de la performance économique (DGPE) M. Arnaud Dunand, sous-directeur de la performance environnementale et valorisation des territoires M. Emmanuel Steinmann, chef du bureau eau, sols et économie circulaire
DTEND:20250527T143000Z
TRANSP:TRANSPARENT
END:VEVENT
BEGIN:VEVENT
UID:OMC_RUANR5L17S2025IDC456571
DTSTAMP:20260421T210755Z
DTSTART:20250527T130000Z
SUMMARY:Réunion de la mission d’information sur les effets de l’intelligence artificielle sur l’activité et la compétitivité des entreprises françaises
LOCATION:Salle 1 - 95 rue de l&#039;Université
DESCRIPTION:Mouvement des Entreprises de France (MEDEF)M. Jean-Luc Brossard, vice-président de Stellantis, président du comité des constructeurs français d’automobiles (CCFA)Et co-président de la commission numérique et innovation du MEDEFM. Alexis Kasbarian, responsable du pôle de la transition numérique et de l’innovationMme Marie David, chargée de mission affaires publiques
DTEND:20250527T140000Z
TRANSP:TRANSPARENT
END:VEVENT
BEGIN:VEVENT
UID:OMC_RUANR5L17S2025IDC456583
DTSTAMP:20260421T210755Z
DTSTART:20250527T130000Z
SUMMARY:Réunion 
LOCATION:Salon Gabriel – 101 rue de l&#039;Université, Rez-de-chaussée
DESCRIPTION:- CLE Autistes – M. Thibault corneloup, co-président CLE Autistes Ile de France, Mme Natacha Guiller, M. Jérôme Tribout, et M. Jessy André Redha Pougnaud, membres du groupe plaidoyer.
DTEND:20250527T140000Z
TRANSP:TRANSPARENT
END:VEVENT
BEGIN:VEVENT
UID:OMC_RUANR5L17S2025IDC456225
DTSTAMP:20260421T210755Z
DTSTART:20250527T140000Z
SUMMARY:Réunion de la commission d’enquête visant à établir les freins à la réindustrialisation de la France
LOCATION:Salle 6242 – Palais Bourbon, 2ème sous-sol
DESCRIPTION:Audition, ouverte à la presse, de M. Patrick Pouyanné, président-directeur général de TotalEnergies.
DTEND:20250527T154500Z
TRANSP:TRANSPARENT
END:VEVENT
BEGIN:VEVENT
UID:OMC_RUANR5L17S2025IDC456521
DTSTAMP:20260421T210755Z
DTSTART:20250527T140000Z
SUMMARY:Réunion Mission flash sur les transfèrements et extractions
LOCATION:Salle 6549 – Palais Bourbon, 2ème étage
DESCRIPTION:Table ronde des syndicats pénitentiaires de surveillance- Union fédérale autonome pénitentiaire (UFAP UNSa)-- M. Luciano Ducceschi, secrétaire général adjoint-- M. Thomas Jacquot, secrétaire national- CGT pénitentiaire-- M. Damien Tripenne, chargé de la communication nationale-- M. Cyril Holin, trésorier national- Syndicat national pénitentiaire FO-- M. Dominique Gombert, secrétaire général adjoint pôle sécurité-- M. Arnaud Schade, secrétaire général adjoint corps de commandement-- Mme Valérie Vaissie, déléguée nationale chargée des relations extérieures- Syndicat pénitentiaire des surveillants non gradés (SPS)-- M. Olivier Bolon Tonda, surveillant-- M. Xavier Mayeux, surveillant brigadier
DTEND:20250527T150000Z
TRANSP:TRANSPARENT
END:VEVENT
BEGIN:VEVENT
UID:OMC_RUANR5L17S2025IDC456553
DTSTAMP:20260421T210755Z
DTSTART:20250527T140000Z
SUMMARY:Réunion de la mission d’information sur la transition des modèles des stations de montagne
LOCATION:Salle 3 – 95, rue de l’Université
DESCRIPTION:Direction générale de l’aménagement, du logement et de la nature (DGALN)M. Charles Tamazout, sous-directeur adjoint « Politiques de l’habitat »Mme Fanny Lendri-Ramirez, cheffe de projet « Montagne »Mme Ophélie Risler, directrice de projet « Changement climatique »
DTEND:20250527T153000Z
TRANSP:TRANSPARENT
END:VEVENT
BEGIN:VEVENT
UID:OMC_RUANR5L17S2025IDC456066
DTSTAMP:20260421T210755Z
DTSTART:20250527T143000Z
SUMMARY:Réunion de la commission des finances
LOCATION:Salle 6350 – Palais Bourbon, 1er étage
DESCRIPTION:Nomination de rapporteur ;-\nCommission d’évaluation des politiques publiques relatives à l’exécution budgétaire des missions Crédits non répartis ; Écologie, développement et mobilité durables : énergie ; Économie ; Engagements financiers de l’État ; Gestion des finances publiques ; Investir pour la France de 2030 ; Plan de relance ; Régimes sociaux et de retraites ; Remboursements et dégrèvements ; Transformation et fonction publiques, des comptes d’affectation spéciale Financement des aides aux collectivités pour l’électrification rurale ; Gestion du patrimoine immobilier de l’État ; Participations financières de l’État et Pensions et des comptes de concours financiers Prêts et avances à des particuliers ou à des organismes privés et Prêts et avances à divers services de l’État ou organismes gérant des services publics : audition de Mme Amélie de MONTCHALIN, ministre chargée des comptes publics et de M. Marc FERRACCI, ministre délégué chargé de l’industrie et de l’énergie\n
DTEND:20250527T173500Z
TRANSP:TRANSPARENT
END:VEVENT
BEGIN:VEVENT
UID:OMC_RUANR5L17S2025IDC456445
DTSTAMP:20260421T210755Z
DTSTART:20250527T143000Z
SUMMARY:Réunion de la commission des affaires économiques
LOCATION:Salle 6241 – Palais Bourbon, 2ème sous-sol
DESCRIPTION:Examen de la proposition de loi visant à renforcer la responsabilité des opérateurs d&#039;infrastructures de réseaux de communications électroniques à très haut débit en fibre optique (n° 1339) (M. Emmanuel Maurel, rapporteur). 
DTEND:20250527T161500Z
TRANSP:TRANSPARENT
END:VEVENT
BEGIN:VEVENT
UID:OMC_RUANR5L17S2025IDC456570
DTSTAMP:20260421T210755Z
DTSTART:20250527T143000Z
SUMMARY:Réunion 
LOCATION:Salle 7044 – 103 rue de l&#039;Université, 2ème sous-sol
DESCRIPTION:Comité national de l’eauM. Jean Launay, président 
DTEND:20250527T160000Z
TRANSP:TRANSPARENT
END:VEVENT
BEGIN:VEVENT
UID:OMC_RUANR5L17S2025IDC456044
DTSTAMP:20260421T210755Z
DTSTART:20250527T144000Z
SUMMARY:Réunion de la délégation de l&#039;Assemblée nationale aux droits des femmes et à l&#039;égalité des chances entre les hommes et les femmes
LOCATION:salle 4088 – rdc – immeuble Olympe de Gouges - 9 rue de Bourgogne
DESCRIPTION:Table ronde, ouverte à la presse, en présence de Mme Stéphanie Rist, députée du Loiret, à l’occasion de la journée Internationale d’Action pour la Santé des Femmes sur les enjeux de la ménopause ; Mmes Geneviève Plu-Burreau, professeure, secrétaire du Groupe d’Étude sur la Ménopause et le Vieillissement Hormonal, médecin à l’unité de Gynécologie Endocrinienne du CHU de Cochin-Port Royal ; Elise Thiébaut, journaliste et éditrice, autrice de « Ceci est mon temps » et Florence Chappert, responsable de la mission égalité intégrée à l&#039;Agence nationale pour l&#039;amélioration des conditions de travail.
DTEND:20250527T160000Z
TRANSP:TRANSPARENT
END:VEVENT
BEGIN:VEVENT
UID:OMC_RUANR5L17S2025IDC456644
DTSTAMP:20260421T210755Z
DTSTART:20250527T150000Z
SUMMARY:Réunion 
LOCATION:Salle 4203 - 9 rue de Bourgogne, 2ème étage
DESCRIPTION:Audition de M. Vincent Strubel, directeur général de l’Agence nationale de la sécurité dans les systèmes d’information.
DTEND:20250527T160000Z
TRANSP:TRANSPARENT
END:VEVENT
BEGIN:VEVENT
UID:OMC_RUANR5L17S2025IDC456413
DTSTAMP:20260421T210755Z
DTSTART:20250527T153000Z
SUMMARY:Réunion de la commission d’enquête relative à l’organisation du système de santé et aux difficultés d’accès aux soins
LOCATION:Salle Lamartine – 101 rue de l&#039;Université, 1er sous-sol
DESCRIPTION:Table ronde, ouverte à la presse, sur « l’accompagnement de la dépendance » réunissant : le Dr Joëlle Martinaux, vice-présidente de l’Union nationale des centres communaux d’action sociale (UNCCAS) ; M. Louis Champion, président de la Fédération des prestataires de santé à domicile (FEDEPSAD) et Mme Alexandra Duvauchelle, déléguée générale ; Mme Céline Boreux, directrice par intérim de la Fondation Aulagnier, membre du Collectif des directeurs d’établissements sanitaires, sociaux et médico-sociaux (COD3S) ; Mme Jade Lemaire, présidente du Cercle des proches aidants en EPHAD et M. Mathurin Laurin, délégué général de la Fédération nationale des établissements d’hospitalisation à domicile (FNEHAD).
DTEND:20250527T173500Z
TRANSP:TRANSPARENT
END:VEVENT
BEGIN:VEVENT
UID:OMC_RUANR5L17S2025IDC456554
DTSTAMP:20260421T210755Z
DTSTART:20250527T153000Z
SUMMARY:Réunion de la mission d’information sur la transition des modèles des stations de montagne
LOCATION:Salle 3 – 95, rue de l’Université
DESCRIPTION:Cour des comptesM. Patrice Ros, vice-président de la chambre régionale des comptes d’Occitanie M. Nicolas Ferru, président de section à la chambre régionale des comptes d’Auvergne-Rhône-Alpes
DTEND:20250527T163000Z
TRANSP:TRANSPARENT
END:VEVENT
BEGIN:VEVENT
UID:OMC_RUANR5L17S2025IDC456523
DTSTAMP:20260421T210755Z
DTSTART:20250527T154500Z
SUMMARY:Réunion de la commission d’enquête visant à établir les freins à la réindustrialisation de la France
LOCATION:Salle 6242 – Palais Bourbon, 2ème sous-sol
DESCRIPTION:Table ronde, ouverte à la presse, sur le financement privé de la réindustrialisation, réunissant :\nM. Yves Perrier, président du conseil d’administration du groupe Edmond de Rothschild, président d’honneur d’Amundi, président de l’Institut de la finance durable ;\nM. Bertrand Rambaud, président de Siparex, président de France Invest ;\nM. Philippe Setbon, directeur général délégué de Natixis, président de l’Association française de la gestion financière (AFG) ;\nMme Maya Atig, directrice générale de la Fédération bancaire française (FBF) et de l&#039;Association française des banques (AFB).\n
DTEND:20250527T173500Z
TRANSP:TRANSPARENT
END:VEVENT
BEGIN:VEVENT
UID:OMC_RUANR5L17S2025IDC456359
DTSTAMP:20260421T210755Z
DTSTART:20250527T165000Z
SUMMARY:Réunion de la commission des affaires sociales
LOCATION:Salle 6351 – Palais Bourbon, 1ème étage
DESCRIPTION:Examen de la proposition de loi permettant aux salariés de participer aux collectes de sang, de plaquettes ou de plasma sur leur temps de travail (n° 732) (M. Pierre Cordier, rapporteur).
DTEND:20250527T180000Z
TRANSP:TRANSPARENT
END:VEVENT
BEGIN:VEVENT
UID:OMC_RUANR5L17S2025IDC456389
DTSTAMP:20260421T210755Z
DTSTART:20250527T190000Z
SUMMARY:Réunion de la commission des finances
LOCATION:Salle 6350 – Palais Bourbon, 1er étage
DESCRIPTION:Commission d’évaluation des politiques publiques relatives à l’exécution budgétaire de la mission Transformation et fonction publiques : audition de M. Laurent MARCANGELI, ministre de l’action publique, de la fonction publique et de la simplification
DTEND:20250527T200000Z
TRANSP:TRANSPARENT
END:VEVENT
BEGIN:VEVENT
UID:OMC_RUANR5L17S2025IDS29460
DTSTAMP:20260421T210755Z
DTSTART:20250527T193000Z
SUMMARY:Deuxième séance publique (218e)
LOCATION:Assemblée nationale
DESCRIPTION:\n\nSuite de la discussion du projet de loi, adopté par le Sénat, de simplification de la vie économique\n
DTEND:20250527T220500Z
TRANSP:TRANSPARENT
END:VEVENT
BEGIN:VEVENT
UID:OMC_RUANR5L17S2025IDC456360
DTSTAMP:20260421T210755Z
DTSTART:20250527T193000Z
SUMMARY:Réunion de la commission des affaires sociales
LOCATION:Salle 6351 – Palais Bourbon, 1ème étage
DESCRIPTION:– suite de l’examen de la proposition de loi permettant aux salariés de participer aux collectes de sang, de plaquettes ou de plasma sur leur temps de travail (n° 732) (M. Pierre Cordier, rapporteur).– examen de la proposition de loi visant à exercer l’accès à l’emploi, pérenniser et étendre progressivement l’expérimentation Territoires zéro chômeur longue durée comme solution de retour à l’emploi pour les personnes privées durablement d’emploi (n° 1326) (M. Stéphane Viry, rapporteur).
DTEND:20250527T214500Z
TRANSP:TRANSPARENT
END:VEVENT
END:VCALENDAR
