BEGIN:VCALENDAR
METHOD:PUBLISH
VERSION:2.0
PRODID:-//Assemblee-Nationale//iCal 3.0//FR
TZ:+00
BEGIN:VEVENT
UID:OMC_RUANR5L17S2025IDC456519
DTSTAMP:20260420T205518Z
DTSTART:20250604T144500Z
SUMMARY:Réunion de la commission d’enquête relative à l’organisation du système de santé et aux difficultés d’accès aux soins
LOCATION:Salle Lamartine – 101 rue de l&#039;Université, 1er sous-sol
DESCRIPTION:Audition de M. Philippe BAPTISTE, ministre auprès de la ministre d&#039;État, ministre de l&#039;éducation nationale, de l’enseignement supérieur et de la recherche, chargé de l’Enseignement supérieur et de la Recherche.
DTEND:20250604T155000Z
TRANSP:TRANSPARENT
END:VEVENT
END:VCALENDAR
