BEGIN:VCALENDAR
METHOD:PUBLISH
VERSION:2.0
PRODID:-//Assemblee-Nationale//iCal 3.0//FR
TZ:+00
BEGIN:VEVENT
UID:OMC_RUANR5L17S2026IDC457554
DTSTAMP:20260420T225732Z
DTSTART:20251002T090000Z
SUMMARY:Réunion de la mission d’information sur les causes et conséquences de la baisse de la natalité en France
LOCATION:Salle 6237 – Palais Bourbon, 2ème sous-sol
DESCRIPTION:Audition, ouverte à la presse, de M. Hippolyte d’Albis, professeur à l’ESSEC.
DTEND:20251002T100000Z
TRANSP:TRANSPARENT
END:VEVENT
END:VCALENDAR
