BEGIN:VCALENDAR
METHOD:PUBLISH
VERSION:2.0
PRODID:-//Assemblee-Nationale//iCal 3.0//FR
TZ:+00
BEGIN:VEVENT
UID:OMC_RUANR5L17S2026IDC457754
DTSTAMP:20260422T021532Z
DTSTART:20251021T143000Z
SUMMARY:Réunion de la commission des affaires sociales
LOCATION:Salle 6351 – Palais Bourbon, 1ème étage
DESCRIPTION:- audition de M. Jean Pierre Farandou, ministre du travail et des solidarités, Mme Stéphanie Rist, ministre de la santé, des familles, de l’autonomie et des personnes handicapées, Mme Amélie de Montchalin, ministre de l’action et des comptes publics, et Mme Charlotte Parmentier-Lecocq, ministre déléguée auprès de la ministre de la santé, des familles, de l’autonomie et des personnes handicapées, chargée de l’autonomie et des personnes handicapées, sur le projet de loi de financement de la sécurité sociale pour 2026 (n° 1907).
DTEND:20251021T183000Z
TRANSP:TRANSPARENT
END:VEVENT
END:VCALENDAR
