BEGIN:VCALENDAR
METHOD:PUBLISH
VERSION:2.0
PRODID:-//Assemblee-Nationale//iCal 3.0//FR
TZ:+00
BEGIN:VEVENT
UID:OMC_RUANR5L17S2026IDC458024
DTSTAMP:20260421T190631Z
DTSTART:20251203T080000Z
SUMMARY:Réunion de la commission de la défense nationale et des forces armées
LOCATION:Salle 4123 –  9 rue de Bourgogne, 1er étage
DESCRIPTION:Audition, ouverte à la presse, du général de corps d’armée Jean-Philippe Crach, officier général stratégie des ressources humaines de l’état-major des armées, sur les réserves (cycle « condition militaire »).
DTEND:20251203T093000Z
TRANSP:TRANSPARENT
END:VEVENT
END:VCALENDAR
