BEGIN:VCALENDAR
METHOD:PUBLISH
VERSION:2.0
PRODID:-//Assemblee-Nationale//iCal 3.0//FR
TZ:+00
BEGIN:VEVENT
UID:OMC_RUANR5L17S2026IDC458491
DTSTAMP:20260419T235033Z
DTSTART:20260121T080500Z
SUMMARY:Réunion de la commission de la défense nationale et des forces armées
LOCATION:Salle 4123 –  9 rue de Bourgogne, 1er étage
DESCRIPTION:Audition, à huis clos, du général de corps d’armée Jacques Langlade de Montgros, directeur du renseignement militaire, sur l’actualité géopolitique et militaire.
DTEND:20260121T100000Z
TRANSP:TRANSPARENT
END:VEVENT
END:VCALENDAR
