BEGIN:VCALENDAR
METHOD:PUBLISH
VERSION:2.0
PRODID:-//Assemblee-Nationale//iCal 3.0//FR
TZ:+00
BEGIN:VEVENT
UID:OMC_RUANR5L17S2026IDC458933
DTSTAMP:20260419T201306Z
DTSTART:20260204T153000Z
SUMMARY:Réunion Mission d&#039;information sur l&#039;imprescriptibilité des violences commises sur des mineurs
LOCATION:Salle 6634 - 2e étage -  Palais Bourbon
DESCRIPTION:Audition, non ouverte à la presse de Mmes Clémentine BORD, Lieutenante-colonelle, référente nationale « violences intrafamiliales » de la gendarmerie nationale, de Marie-Laure BOCK, Lieutenante-colonelle, cheffe du bureau délinquance générale à la Direction générale de la gendarmerie nationale (DGGN) et M. Christophe MOLMY, Commissaire divisionnaire de police, chef de la brigade de protection des mineurs et ancien patron de la BRI-PP, écrivain de la Préfecture de police de Paris.
DTEND:20260204T170000Z
TRANSP:TRANSPARENT
END:VEVENT
END:VCALENDAR
