BEGIN:VCALENDAR
METHOD:PUBLISH
VERSION:2.0
PRODID:-//Assemblee-Nationale//iCal 3.0//FR
TZ:+00
BEGIN:VEVENT
UID:OMC_RUANR5L17S2026IDC459128
DTSTAMP:20260420T203353Z
DTSTART:20260217T163000Z
SUMMARY:Réunion 
LOCATION:Salle 4016 –  9 rue de Bourgogne, Rez-de-chaussée
DESCRIPTION:Audition du Général Pierre-Stéphane Vaysse, Sous-chef d&#039;état-major « activité ».
DTEND:20260217T173000Z
TRANSP:TRANSPARENT
END:VEVENT
END:VCALENDAR
