BEGIN:VCALENDAR
METHOD:PUBLISH
VERSION:2.0
PRODID:-//Assemblee-Nationale//iCal 3.0//FR
TZ:+00
BEGIN:VEVENT
UID:OMC_RUANR5L17S2026IDC459162
DTSTAMP:20260420T202611Z
DTSTART:20260218T160000Z
SUMMARY:Réunion de la mission flash sur les leviers de l’enseignement agricole pour enseigner à produire autrement
LOCATION:Salle 6549 – Palais Bourbon, 2ème étage
DESCRIPTION:- agence Phare, organisme chargé de l’évaluation du deuxième plan « Enseigner à produire autrement » – M. François Cathelineau, président et administrateur de la Société française de l’évaluation (SFE).
DTEND:20260218T170000Z
TRANSP:TRANSPARENT
END:VEVENT
END:VCALENDAR
