BEGIN:VCALENDAR
METHOD:PUBLISH
VERSION:2.0
PRODID:-//Assemblee-Nationale//iCal 3.0//FR
TZ:+00
BEGIN:VEVENT
UID:OMC_RUANR5L17S2026IDC459097
DTSTAMP:20260420T172832Z
DTSTART:20260219T173000Z
SUMMARY:Réunion de la commission des affaires culturelles et de l&#039;éducation
LOCATION:Salle 6242 – Palais Bourbon, 2ème sous-sol
DESCRIPTION:Dans le cadre des travaux d’enquête sur la protection du patrimoine national et la sécurisation des musées (article 5 ter de l’ordonnance n° 58-1100 du 17 novembre 1958), audition commune de M. Jean-Luc Martinez, ancien président de l’établissement public du musée du Louvre, Mme Valérie Forey, ancienne administratrice générale adjointe, M. Denis Fousse, ancien directeur de l’accueil du public et de la surveillance, et M. Romain Salagnon, ancien chef de projet chargé du suivi des travaux du schéma directeur des équipements de sûreté.
DTEND:20260219T193000Z
TRANSP:TRANSPARENT
END:VEVENT
END:VCALENDAR
