BEGIN:VCALENDAR
METHOD:PUBLISH
VERSION:2.0
PRODID:-//Assemblee-Nationale//iCal 3.0//FR
TZ:+00
BEGIN:VEVENT
UID:OMC_RUANR5L17S2026IDC459207
DTSTAMP:20260419T203304Z
DTSTART:20260223T140000Z
SUMMARY:Réunion 
LOCATION:Salle 4203 –  9 rue de Bourgogne, 2ème étage
DESCRIPTION:Audition de M. Olivier Vincent, directeur exécutif de Bpifrance, en charge de l’export.
DTEND:20260223T150000Z
TRANSP:TRANSPARENT
END:VEVENT
END:VCALENDAR
