BEGIN:VCALENDAR
METHOD:PUBLISH
VERSION:2.0
PRODID:-//Assemblee-Nationale//iCal 3.0//FR
TZ:+00
BEGIN:VEVENT
UID:OMC_RUANR5L17S2026IDC459110
DTSTAMP:20260420T012536Z
DTSTART:20260225T083000Z
SUMMARY:Réunion de la commission des affaires sociales
LOCATION:Salle 6351 – Palais Bourbon, 1er étage
DESCRIPTION:Nomination de rapporteurs sur les propositions de loi :\nVisant à garantir le bénéfice des prestations familiales aux enfants placés (n° 2493) ;\nPour la sécurisation des ressources des familles monoparentales par une pension alimentaire garantie (n° 2494) ;\nPortant création d’une carte famille ouverte dès le deuxième enfant (n° 2495) ;\nDésignation de rapporteurs en vue du débat thématique de contrôle en séance publique du 29 avril 2026 sur le thème « Responsabilité des politiques conduites depuis 2017 sur la dégradation de la santé mentale des jeunes » ;\nCréation de missions d’information ;\nExamen de la proposition de loi, modifiée par le Sénat, relative aux missions des professionnels de santé, vétérinaires, psychothérapeutes et psychologues des services d’incendie et de secours (n° 1383) (M. Jean Carles Grelier, rapporteur) ;\nExamen de la proposition de loi visant à interdire les sucres ajoutés aliments destinés aux nourrissons et aux enfants en bas âge (n° 2442 rect.) (M. Cyrille Isaac Sibille, rapporteur).\n
DTEND:20260225T110500Z
TRANSP:TRANSPARENT
END:VEVENT
END:VCALENDAR
