BEGIN:VCALENDAR
METHOD:PUBLISH
VERSION:2.0
PRODID:-//Assemblee-Nationale//iCal 3.0//FR
TZ:+00
BEGIN:VEVENT
UID:OMC_RUANR5L17S2026IDC459277
DTSTAMP:20260420T182801Z
DTSTART:20260302T143000Z
SUMMARY:Réunion 
LOCATION:Visioconférence sans salle
DESCRIPTION:Audition sous forme de table ronde de Mme Dominique Lhuilier, professeure émérite en psychosociologie du travail et de la formation et de M. Dominique Gelpe, docteur en psychologie.
DTEND:20260302T153000Z
TRANSP:TRANSPARENT
END:VEVENT
END:VCALENDAR
