BEGIN:VCALENDAR
METHOD:PUBLISH
VERSION:2.0
PRODID:-//Assemblee-Nationale//iCal 3.0//FR
TZ:+00
BEGIN:VEVENT
UID:OMC_RUANR5L17S2026IDC459355
DTSTAMP:20260420T172830Z
DTSTART:20260326T083000Z
SUMMARY:Réunion de la commission d&#039;enquête relative aux conséquences des accords du Touquet sur l&#039;action publique et le respect des libertés et droits fondamentaux des personnes migrantes
LOCATION:Salle 6350 – Palais Bourbon, 1er étage
DESCRIPTION:Audition, ouverte à la presse, de M. Didier Leschi, directeur général de l’Office français de l&#039;immigration et de l&#039;intégration (OFII).
DTEND:20260326T094000Z
TRANSP:TRANSPARENT
END:VEVENT
END:VCALENDAR
