BEGIN:VCALENDAR
METHOD:PUBLISH
VERSION:2.0
PRODID:-//Assemblee-Nationale//iCal 3.0//FR
TZ:+00
BEGIN:VEVENT
UID:OMC_RUANR5L17S2026IDC459306
DTSTAMP:20260419T203312Z
DTSTART:20260401T070500Z
SUMMARY:Réunion de la commission des affaires culturelles et de l&#039;éducation
LOCATION:Salle 6242 – Palais Bourbon, 2ème sous-sol
DESCRIPTION:Examen de la proposition de loi visant à encadrer les regroupements pédagogiques intercommunaux afin de garantir l’égalité d’accès à l’école en milieu rural (no 2496) (M. Pierre Henriet, rapporteur).
DTEND:20260401T082000Z
TRANSP:TRANSPARENT
END:VEVENT
END:VCALENDAR
