BEGIN:VCALENDAR
METHOD:PUBLISH
VERSION:2.0
PRODID:-//Assemblee-Nationale//iCal 3.0//FR
TZ:+00
BEGIN:VEVENT
UID:OMC_RUANR5L17S2026IDC459592
DTSTAMP:20260419T203302Z
DTSTART:20260402T120000Z
SUMMARY:Réunion de France-Haïti
LOCATION:2ème bureau (Palais Bourbon, 1er étage)
DESCRIPTION:Audition de Madame Anne Savinel-Barras, présidente d&#039;Amnesty International France
DTEND:20260402T130000Z
TRANSP:TRANSPARENT
END:VEVENT
END:VCALENDAR
