BEGIN:VCALENDAR
METHOD:PUBLISH
VERSION:2.0
PRODID:-//Assemblee-Nationale//iCal 3.0//FR
TZ:+00
BEGIN:VEVENT
UID:OMC_RUANR5L17S2026IDC459553
DTSTAMP:20260420T223548Z
DTSTART:20260408T070000Z
SUMMARY:Réunion de la commission du développement durable et de l&#039;aménagement du territoire
LOCATION:Salle 6238 – Palais Bourbon, 2ème sous-sol
DESCRIPTION:à 9 heures : décision, en application de l’article 148, alinéa 3 du Règlement, sur quatre pétitions (pétitions n° 2760 pour l’abrogation des ZFE, n° 3021 pour une sortie des pesticides de synthèse, n° 3070 pour l’abrogation du contrôle technique des motos et n° 4583 pour stopper le massacre injustifié des renards) (Mme Ersilia Soudais, rapporteure) ;\nà 10 heures : audition de M. Sylvain Waserman, président-directeur général de l’Agence de la transition écologique (ADEME).\n
DTEND:20260408T101500Z
TRANSP:TRANSPARENT
END:VEVENT
END:VCALENDAR
