BEGIN:VCALENDAR
METHOD:PUBLISH
VERSION:2.0
PRODID:-//Assemblee-Nationale//iCal 3.0//FR
TZ:+00
BEGIN:VEVENT
UID:OMC_RUANR5L17S2026IDC459750
DTSTAMP:20260420T203352Z
DTSTART:20260414T143000Z
SUMMARY:Réunion de la commission d&#039;enquête sur les dépendances structurelles et les vulnérabilités systémiques dans le secteur du numérique et les risques pour l’indépendance de la France
LOCATION:Salle 6237 – Palais Bourbon, 2ème sous-sol
DESCRIPTION:Audition, ouverte à la presse, de Mme Stéphanie Schaer, directrice interministérielle du numérique, et M. Jérémie Vallet, son adjoint.
DTEND:20260414T171000Z
TRANSP:TRANSPARENT
END:VEVENT
END:VCALENDAR
