BEGIN:VCALENDAR
METHOD:PUBLISH
VERSION:2.0
PRODID:-//Assemblee-Nationale//iCal 3.0//FR
TZ:+00
BEGIN:VEVENT
UID:OMC_RUANR5L17S2026IDC459745
DTSTAMP:20260420T133136Z
DTSTART:20260415T123000Z
SUMMARY:Réunion de la mission d’évaluation de la compétitivité des ports français
LOCATION:Salon Gabriel – 101 rue de l&#039;Université, Rez-de-chaussée
DESCRIPTION:Audition de MM. Gilles Kindelberger, président de l’Union portuaire rouennaise (UPR), et Thomas Courtier, directeur général.
DTEND:20260415T133000Z
TRANSP:TRANSPARENT
END:VEVENT
END:VCALENDAR
