BEGIN:VCALENDAR
METHOD:PUBLISH
VERSION:2.0
PRODID:-//Assemblee-Nationale//iCal 3.0//FR
TZ:+00
BEGIN:VEVENT
UID:OMC_RUANR5L17S2026IDC459855
DTSTAMP:20260420T202604Z
DTSTART:20260416T083000Z
SUMMARY:Réunion de la mission d’évaluation de la politique du logement social dans les Outre-mer
LOCATION:Salon Visconti – 101 rue de l&#039;Université, Rez-de-chaussée
DESCRIPTION:Audition de Mme Mariam Locate, conseillère nationale de l’Ordre des architectes, et de M. Mathieu de Vlieger, responsable des affaires publiques du Conseil national de l’Ordre des architectes (CNOA).
DTEND:20260416T093000Z
TRANSP:TRANSPARENT
END:VEVENT
END:VCALENDAR
