BEGIN:VCALENDAR
METHOD:PUBLISH
VERSION:2.0
PRODID:-//Assemblee-Nationale//iCal 3.0//FR
TZ:+00
BEGIN:VEVENT
UID:OMC_RUANR5L17S2026IDC459673
DTSTART:20260421T070000Z
DTSTAMP:20260421T164722Z
SUMMARY:Réunion de la commission de la défense nationale et des forces armées
LOCATION:Salle 4123 –  9 rue de Bourgogne, 1er étage
DESCRIPTION:Discussion générale puis examen, ouvert à la presse, du projet de loi actualisant la programmation militaire pour les années 2024 à 2030 et portant diverses dispositions intéressant la défense (n° 2630) (MM. Yannick Chenevard et Jean-Louis Thiériot, rapporteurs).
DTEND:20260421T080000Z
TRANSP:TRANSPARENT
END:VEVENT
BEGIN:VEVENT
UID:OMC_RUANR5L17S2026IDC459756
DTSTART:20260421T071500Z
DTSTAMP:20260421T164722Z
SUMMARY:Réunion de la commission d&#039;enquête sur les dépendances structurelles et les vulnérabilités systémiques dans le secteur du numérique et les risques pour l’indépendance de la France
LOCATION:Salle 6237 – Palais Bourbon, 2ème sous-sol
DESCRIPTION:Audition, ouverte à la presse, de M. Arnaud Caudoux, directeur général adjoint de Bpifrance, M. Lionel Chaine, directeur des systèmes d’information, et Mme Sophie Rémont, directrice en charge de l’expertise et des programmes au sein de la direction de l’innovation.
DTEND:20260421T092500Z
TRANSP:TRANSPARENT
END:VEVENT
BEGIN:VEVENT
UID:OMC_RUANR5L17S2026IDC459758
DTSTAMP:20260421T164722Z
DTSTART:20260421T120000Z
SUMMARY:Réunion de la commission d&#039;enquête sur les dépendances structurelles et les vulnérabilités systémiques dans le secteur du numérique et les risques pour l’indépendance de la France
LOCATION:Salle 6237 – Palais Bourbon, 2ème sous-sol
DESCRIPTION:Table ronde, ouverte à la presse, réunissant des fournisseurs de cloud : M. Sébastien Lescop, directeur général de Cloud Temple, M. Eric Haddad, président exécutif de NumSpot, M. Philippe Miltin, directeur général d’Outscale Dassault Systèmes, M. David Chassan, directeur de la stratégie, M. Octave Klaba, président-directeur général d’OVHcloud, Mme Solange Viegas Dos Reis, directrice juridique, et M. Damien Lucas, directeur général de Scaleway.
DTEND:20260421T135000Z
TRANSP:TRANSPARENT
END:VEVENT
BEGIN:VEVENT
UID:OMC_RUANR5L17S2026IDC459674
DTSTAMP:20260421T164722Z
DTSTART:20260421T123000Z
SUMMARY:Réunion de la commission de la défense nationale et des forces armées
LOCATION:Salle 4123 –  9 rue de Bourgogne, 1er étage
DESCRIPTION:Suite de l’examen, ouvert à la presse, du projet de loi actualisant la programmation militaire pour les années 2024 à 2030 et portant diverses dispositions intéressant la défense (n° 2630) (MM. Yannick Chenevard et Jean-Louis Thiériot, rapporteurs).
DTEND:20260421T133000Z
TRANSP:TRANSPARENT
END:VEVENT
BEGIN:VEVENT
UID:OMC_RUANR5L17S2026IDC459675
DTSTAMP:20260421T164722Z
DTSTART:20260421T193000Z
SUMMARY:Réunion de la commission de la défense nationale et des forces armées
LOCATION:Salle 4123 –  9 rue de Bourgogne, 1er étage
DESCRIPTION:Suite de l’examen, ouvert à la presse, du projet de loi actualisant la programmation militaire pour les années 2024 à 2030 et portant diverses dispositions intéressant la défense (n° 2630) (MM. Yannick Chenevard et Jean-Louis Thiériot, rapporteurs).
DTEND:20260421T203000Z
TRANSP:TRANSPARENT
END:VEVENT
END:VCALENDAR
