BEGIN:VCALENDAR
METHOD:PUBLISH
VERSION:2.0
PRODID:-//Assemblee-Nationale//iCal 3.0//FR
TZ:+00
BEGIN:VEVENT
UID:OMC_RUANR5L17S2026IDC459758
DTSTAMP:20260421T105319Z
DTSTART:20260421T120000Z
SUMMARY:Réunion de la commission d&#039;enquête sur les dépendances structurelles et les vulnérabilités systémiques dans le secteur du numérique et les risques pour l’indépendance de la France
LOCATION:Salle 6237 – Palais Bourbon, 2ème sous-sol
DESCRIPTION:Table ronde, ouverte à la presse, réunissant des fournisseurs de cloud : M. Sébastien Lescop, directeur général de Cloud Temple, M. Eric Haddad, président exécutif de NumSpot, M. Philippe Miltin, directeur général d’Outscale Dassault Systèmes, M. David Chassan, directeur de la stratégie, M. Octave Klaba, président-directeur général d’OVHcloud, Mme Solange Viegas Dos Reis, directrice juridique, et M. Damien Lucas, directeur général de Scaleway.
DTEND:20260421T130000Z
TRANSP:TRANSPARENT
END:VEVENT
END:VCALENDAR
