BEGIN:VCALENDAR
METHOD:PUBLISH
VERSION:2.0
PRODID:-//Assemblee-Nationale//iCal 3.0//FR
TZ:+00
BEGIN:VEVENT
UID:OMC_RUANR5L17S2026IDC459868
DTSTAMP:20260420T203348Z
DTSTART:20260427T123000Z
SUMMARY:Réunion de la commission d’enquête sur la neutralité, le fonctionnement et le financement de l’audiovisuel public
LOCATION:Salle 6566 – Palais Bourbon, 2ème étage
DESCRIPTION:Examen du rapport, à huis clos.
DTEND:20260427T133000Z
TRANSP:TRANSPARENT
END:VEVENT
END:VCALENDAR
