BEGIN:VCALENDAR
METHOD:PUBLISH
VERSION:2.0
PRODID:-//Assemblee-Nationale//iCal 3.0//FR
TZ:+00
BEGIN:VEVENT
UID:OMC_RUANR5L17S2026IDS30591
DTSTAMP:20260421T095603Z
DTSTART:20260427T140000Z
SUMMARY:Séance publique (e)
LOCATION:Assemblée nationale
DESCRIPTION:Débat sur le rapport d’avancement annuel sur le suivi de l’exécution du plan budgétaire et structurel à moyen terme
DTEND:20260427T150000Z
TRANSP:TRANSPARENT
END:VEVENT
END:VCALENDAR
