BEGIN:VCALENDAR
METHOD:PUBLISH
VERSION:2.0
PRODID:-//Assemblee-Nationale//iCal 3.0//FR
TZ:+00
BEGIN:VEVENT
UID:OMC_RUANR5L17S2026IDC459913
DTSTAMP:20260420T203346Z
DTSTART:20260428T150000Z
SUMMARY:Réunion de la délégation aux outre-mer
LOCATION:Salle 7040 – 103 rue de l&#039;Université, 2ème sous-sol
DESCRIPTION:Présentation, ouverte à la presse, de la communication de la mission flash sur l’impact des taxes et redevances qui s’appliquent au transport aérien desservant les outre-mer (Mme Béatrice Bellay, MM. Elie Califer, Stéphane Lenormand et Davy Rimane rapporteurs) ;\nQuestions diverses.\n
DTEND:20260428T160000Z
TRANSP:TRANSPARENT
END:VEVENT
END:VCALENDAR
