BEGIN:VCALENDAR
METHOD:PUBLISH
VERSION:2.0
PRODID:-//Assemblee-Nationale//iCal 3.0//FR
TZ:+00
BEGIN:VEVENT
UID:OMC_RUANR5L17S2026IDC459915
DTSTAMP:20260420T133128Z
DTSTART:20260428T160000Z
SUMMARY:Réunion de la commission des affaires économiques
LOCATION:Salle 6241 – Palais Bourbon, 2ème sous-sol
DESCRIPTION:Audition de M. Guillaume Larroque, directeur marketing et services Europe du groupe TotalEnergie, Mme Isabelle Patrier, directrice France, et Mme Vanessa Jaeger, directrice des relations institutionnelles France.
DTEND:20260428T170000Z
TRANSP:TRANSPARENT
END:VEVENT
END:VCALENDAR
