BEGIN:VCALENDAR
METHOD:PUBLISH
VERSION:2.0
PRODID:-//Assemblee-Nationale//iCal 3.0//FR
TZ:+00
BEGIN:VEVENT
UID:OMC_RUANR5L17S2026IDC459864
DTSTAMP:20260420T125008Z
DTSTART:20260429T070000Z
SUMMARY:Réunion de la commission des finances
LOCATION:Salle 6350 – Palais Bourbon, 1er étage
DESCRIPTION:Nomination de rapporteurs\nAudition de Mme Inès-Claire Mercereau, présidente de la 2e chambre de la Cour des comptes, sur le financement des énergies renouvelables et le coût de la filière nucléaire\nCommunication de M. Jacques Oberti rapporteur de la mission flash sur les dysfonctionnements du logiciel Hélios\n
DTEND:20260429T080000Z
TRANSP:TRANSPARENT
END:VEVENT
END:VCALENDAR
