BEGIN:VCALENDAR
METHOD:PUBLISH
VERSION:2.0
PRODID:-//Assemblee-Nationale//iCal 3.0//FR
TZ:+00
BEGIN:VEVENT
UID:OMC_RUANR5L17S2026IDC459899
DTSTAMP:20260421T210746Z
DTSTART:20260429T120000Z
SUMMARY:Réunion 
LOCATION:Salle 7044 – 103 rue de l&#039;Université, 2ème sous-sol
DESCRIPTION:Table ronde « Associations de consommateurs » :- Union fédérale consommateurs - Que choisir ?M. Benjamin Recher, chargé des relations institutionnelles- Confédération de la consommation, du logement et du cadre de vie (CLCV)Mme Ibtissam Mozher, analyste socio-économique, responsable d’études « réparations »M. Guillaume Ramond, responsable chargé des relations institutionnelles
DTEND:20260429T130000Z
TRANSP:TRANSPARENT
END:VEVENT
END:VCALENDAR
