BEGIN:VCALENDAR
METHOD:PUBLISH
VERSION:2.0
PRODID:-//Assemblee-Nationale//iCal 3.0//FR
TZ:+00
BEGIN:VEVENT
UID:OMC_RUANR5L17S2026IDC459900
DTSTAMP:20260421T101421Z
DTSTART:20260429T130000Z
SUMMARY:Réunion 
LOCATION:Salle 7044 – 103 rue de l&#039;Université, 2ème sous-sol
DESCRIPTION:Table ronde « Vente à distance et places de marché » :- Fédération e-commerce et vente à distance (Fevad)M. Hugo Jublan, responsable « RSE »M. Moncef Lameche, responsable chargé des affaires publiques- Alliance française des places de marché (AFPDM)Mme Charlotte Cheynard, adhérente M. Lucas Maurici, juriste en charge de la mise en conformité numérique, adhérentM. Pierre Sellin, consultant « affaires publiques »
DTEND:20260429T140000Z
TRANSP:TRANSPARENT
END:VEVENT
END:VCALENDAR
