BEGIN:VCALENDAR
METHOD:PUBLISH
VERSION:2.0
PRODID:-//Assemblee-Nationale//iCal 3.0//FR
TZ:+00
BEGIN:VEVENT
UID:OMC_RUANR5L17S2026IDC459911
DTSTAMP:20260419T201303Z
DTSTART:20260429T073000Z
SUMMARY:Réunion de la mission d’information commune sur les suites à donner à l’affaire Le Scouarnec
LOCATION:3ème Bureau – Palais Bourbon, 1er étage
DESCRIPTION:Collectif de victimes de Joël Le Scouarnec – Mme Manon Lemoine, porte-parole et Mme Marie Grimaud, avocate et bénévole.
DTEND:20260429T083000Z
TRANSP:TRANSPARENT
END:VEVENT
END:VCALENDAR
