BEGIN:VCALENDAR
METHOD:PUBLISH
VERSION:2.0
PRODID:-//Assemblee-Nationale//iCal 3.0//FR
TZ:+00
BEGIN:VEVENT
UID:OMC_RUANR5L17S2026IDC459912
DTSTAMP:20260419T201302Z
DTSTART:20260429T093000Z
SUMMARY:Réunion de la mission d’information commune sur les suites à donner à l’affaire Le Scouarnec
LOCATION:3ème Bureau – Palais Bourbon, 1er étage
DESCRIPTION:M. Hugo Lemonier, journaliste et auteur du livre « Piégés : Dans le ‘‘journal intime’’du Dr Le Scouarnec ».
DTEND:20260429T103000Z
TRANSP:TRANSPARENT
END:VEVENT
END:VCALENDAR
