BEGIN:VCALENDAR
METHOD:PUBLISH
VERSION:2.0
PRODID:-//Assemblee-Nationale//iCal 3.0//FR
TZ:+00
BEGIN:VEVENT
UID:OMC_RUANR5L17S2026IDC459736
DTSTAMP:20260419T221141Z
DTSTART:20260430T081500Z
SUMMARY:Réunion Mission d&#039;information sur le Coût des violences sexistes et sexuelles et accompagnement des victimes
LOCATION:Visioconférence sans salle
DESCRIPTION:- audition, non ouverte à la presse, de Mme Magali Lafourcade, magistrate et secrétaire générale de la commission nationale consultative des droits de l’homme (CNCDH).
DTEND:20260430T090000Z
TRANSP:TRANSPARENT
END:VEVENT
END:VCALENDAR
