BEGIN:VCALENDAR
METHOD:PUBLISH
VERSION:2.0
PRODID:-//Assemblee-Nationale//iCal 3.0//FR
TZ:+00
BEGIN:VEVENT
UID:OMC_RUANR5L17S2026IDC459850
DTSTAMP:20260420T133130Z
DTSTART:20260430T073000Z
SUMMARY:Réunion Mission d&#039;information sur le Coût des violences sexistes et sexuelles et l&#039;accompagnement des victimes
LOCATION:Visioconférence sans salle
DESCRIPTION:- Audition, non ouverte à la presse, de Mmes Lucia Argibay et Manon Lefebvre, secrétaires nationales du Syndicat de la magistrature. 
DTEND:20260430T081500Z
TRANSP:TRANSPARENT
END:VEVENT
END:VCALENDAR
