BEGIN:VCALENDAR
METHOD:PUBLISH
VERSION:2.0
PRODID:-//Assemblee-Nationale//iCal 3.0//FR
TZ:+00
BEGIN:VEVENT
UID:OMC_RUANR5L17S2026IDC459914
DTSTAMP:20260419T201309Z
DTSTART:20260430T120000Z
SUMMARY:Réunion de la délégation aux outre-mer
LOCATION:Salle 7040 – 103 rue de l&#039;Université, 2ème sous-sol
DESCRIPTION:- audition, ouverte à la presse, des principaux acteurs du raffinage, de l’importation et de la distribution de produits pétroliers dans les outre-mer (programme en cours de finalisation) ;\n- questions diverses.\n
DTEND:20260430T130000Z
TRANSP:TRANSPARENT
END:VEVENT
END:VCALENDAR
