BEGIN:VCALENDAR
METHOD:PUBLISH
VERSION:2.0
PRODID:-//Assemblee-Nationale//iCal 3.0//FR
TZ:+00
BEGIN:VEVENT
UID:OMC_RUANR5L17S2026IDC459744
DTSTAMP:20260420T182802Z
DTSTART:20260506T130000Z
SUMMARY:Réunion de la commission des affaires européennes
LOCATION:Salle 4325 – Commission des affaires européennes,  9 rue de Bourgogne, 3ème étage
DESCRIPTION:Suspendre l’accord d’association Union européenne - Israël et à l’adoption de sanctions contre les violations du droit international humanitaire : examen de la proposition de résolution européenne (n° 1765) (Sabrina Sebaihi, rapporteure).
DTEND:20260506T140000Z
TRANSP:TRANSPARENT
END:VEVENT
END:VCALENDAR
