BEGIN:VCALENDAR
METHOD:PUBLISH
VERSION:2.0
PRODID:-//Assemblee-Nationale//iCal 3.0//FR
TZ:+00
BEGIN:VEVENT
UID:OMC_RUANR5L17S2026IDC459865
DTSTAMP:20260420T133144Z
DTSTART:20260506T073000Z
SUMMARY:Réunion de la commission des finances
LOCATION:Salle 6350 – Palais Bourbon, 1er étage
DESCRIPTION:Examen de la proposition de loi instituant un mécanisme de saisie des avoirs souverains étrangers gelés en réponse aux violations du droit international (n° 1706)
DTEND:20260506T083000Z
TRANSP:TRANSPARENT
END:VEVENT
END:VCALENDAR
