BEGIN:VCALENDAR
METHOD:PUBLISH
VERSION:2.0
PRODID:-//Assemblee-Nationale//iCal 3.0//FR
TZ:+00
BEGIN:VEVENT
UID:OMC_RUANR5L17S2026IDC459876
DTSTAMP:20260422T030058Z
DTSTART:20260506T073000Z
SUMMARY:Réunion de la commission des affaires sociales
LOCATION:Salle 6351 – Palais Bourbon, 1ème étage
DESCRIPTION:Examen de la proposition de loi, modifiée par le Sénat, visant à améliorer la protection et l’accompagnement des parents d’enfants atteints d’un cancer, d’une maladie grave ou d’un handicap (n° 2538) (M. Vincent Thiébaut, rapporteur).
DTEND:20260506T083000Z
TRANSP:TRANSPARENT
END:VEVENT
END:VCALENDAR
